BEGIN:VCALENDAR
VERSION:2.0
CALSCALE:GREGORIAN
PRODID:-//Diputació de Barcelona//DibaCMS//EN
BEGIN:VEVENT
UID:6540
DTSTAMP:20260423T004318
DTSTART:20160725T190000
DTEND:20160725T000000
SUMMARY:Sardanes. Festa Major de Sant Martí
LOCATION:
METHOD:PUBLISH
X-WR-CALNAME:aiguafreda@aiguafreda.cat
X-WR-TIMEZONE:Europe/Madrid
DESCRIPTION:
URI:https://www.aiguafreda.cat/actualitat/agenda/sardanes-festa-major-de-sant-marti.html
CLASS:PUBLIC
END:VEVENT
END:VCALENDAR
