BEGIN:VCALENDAR
VERSION:2.0
CALSCALE:GREGORIAN
PRODID:-//Diputació de Barcelona//DibaCMS//EN
BEGIN:VEVENT
UID:6539
DTSTAMP:20260422T195741
DTSTART:20160724T000000
DTEND:20160724T000000
SUMMARY:La Marxa Som. Columna de Llevant, etapa 43: La Garriga - Centelles
LOCATION:
METHOD:PUBLISH
X-WR-CALNAME:aiguafreda@aiguafreda.cat
X-WR-TIMEZONE:Europe/Madrid
DESCRIPTION:
URI:https://www.aiguafreda.cat/actualitat/agenda/la-marxa-som-columna-de-llevant-etapa-43-la-garriga-centelles.html
CLASS:PUBLIC
END:VEVENT
END:VCALENDAR
