BEGIN:VCALENDAR
VERSION:2.0
CALSCALE:GREGORIAN
PRODID:-//Diputació de Barcelona//DibaCMS//EN
BEGIN:VEVENT
UID:6537
DTSTAMP:20260422T195213
DTSTART:20160716T210000
DTEND:20160716T000000
SUMMARY:Sopar de veïns de la Plaça Major
LOCATION:
METHOD:PUBLISH
X-WR-CALNAME:aiguafreda@aiguafreda.cat
X-WR-TIMEZONE:Europe/Madrid
DESCRIPTION:
URI:https://www.aiguafreda.cat/actualitat/agenda/6537-sopar-de-veins-de-la-placa-major.html
CLASS:PUBLIC
END:VEVENT
END:VCALENDAR
