BEGIN:VCALENDAR
VERSION:2.0
CALSCALE:GREGORIAN
PRODID:-//Diputació de Barcelona//DibaCMS//EN
BEGIN:VEVENT
UID:6535
DTSTAMP:20260422T230425
DTSTART:20160711T000000
DTEND:20160716T000000
SUMMARY:9a. Setmana de Joventut
LOCATION:
METHOD:PUBLISH
X-WR-CALNAME:aiguafreda@aiguafreda.cat
X-WR-TIMEZONE:Europe/Madrid
DESCRIPTION:
URI:https://www.aiguafreda.cat/actualitat/agenda/9a-setmana-de-joventut.html
CLASS:PUBLIC
END:VEVENT
END:VCALENDAR
