BEGIN:VCALENDAR
VERSION:2.0
CALSCALE:GREGORIAN
PRODID:-//Diputació de Barcelona//DibaCMS//EN
BEGIN:VEVENT
UID:6534
DTSTAMP:20260422T170100
DTSTART:20160705T173000
DTEND:20160706T200000
SUMMARY:Festa de la Infància, amb el Consell d'Infants d'Aiguafreda
LOCATION:
METHOD:PUBLISH
X-WR-CALNAME:aiguafreda@aiguafreda.cat
X-WR-TIMEZONE:Europe/Madrid
DESCRIPTION:
URI:https://www.aiguafreda.cat/actualitat/agenda/festa-de-la-infancia-amb-el-consell-dinfants-daiguafreda.html
CLASS:PUBLIC
END:VEVENT
END:VCALENDAR
