BEGIN:VCALENDAR
VERSION:2.0
CALSCALE:GREGORIAN
PRODID:-//Diputació de Barcelona//DibaCMS//EN
BEGIN:VEVENT
UID:6533
DTSTAMP:20260422T151007
DTSTART:20160703T190000
DTEND:20160703T000000
SUMMARY:Festival de Ballet de l'escola Dansaidansa - Petits
LOCATION:
METHOD:PUBLISH
X-WR-CALNAME:aiguafreda@aiguafreda.cat
X-WR-TIMEZONE:Europe/Madrid
DESCRIPTION:
URI:https://www.aiguafreda.cat/actualitat/agenda/6533-festival-de-ballet-de-lescola-dansaidansa-petits.html
CLASS:PUBLIC
END:VEVENT
END:VCALENDAR
