BEGIN:VCALENDAR
VERSION:2.0
CALSCALE:GREGORIAN
PRODID:-//Diputació de Barcelona//DibaCMS//EN
BEGIN:VEVENT
UID:6531
DTSTAMP:20260422T210204
DTSTART:20160702T220000
DTEND:20160702T000000
SUMMARY:Festival de Ballet de l'escola Dansaidansa - Grans
LOCATION:
METHOD:PUBLISH
X-WR-CALNAME:aiguafreda@aiguafreda.cat
X-WR-TIMEZONE:Europe/Madrid
DESCRIPTION:
URI:https://www.aiguafreda.cat/actualitat/agenda/6531-festival-de-ballet-de-lescola-dansaidansa-grans.html
CLASS:PUBLIC
END:VEVENT
END:VCALENDAR
