BEGIN:VCALENDAR
VERSION:2.0
CALSCALE:GREGORIAN
PRODID:-//Diputació de Barcelona//DibaCMS//EN
BEGIN:VEVENT
UID:6529
DTSTAMP:20260422T181507
DTSTART:20160701T090000
DTEND:20160728T140000
SUMMARY:Curs de Monitors/es de lleure infantil i juvenil
LOCATION:
METHOD:PUBLISH
X-WR-CALNAME:aiguafreda@aiguafreda.cat
X-WR-TIMEZONE:Europe/Madrid
DESCRIPTION:
URI:https://www.aiguafreda.cat/actualitat/agenda/curs-de-monitorses-de-lleure-infantil-i-juvenil.html
CLASS:PUBLIC
END:VEVENT
END:VCALENDAR
