BEGIN:VCALENDAR
VERSION:2.0
CALSCALE:GREGORIAN
PRODID:-//Diputació de Barcelona//DibaCMS//EN
BEGIN:VEVENT
UID:6527
DTSTAMP:20260422T164848
DTSTART:20160627T090000
DTEND:20160630T140000
SUMMARY:Curs de Premonitors/es de lleure per a joves de 15 a 17 anys
LOCATION:
METHOD:PUBLISH
X-WR-CALNAME:aiguafreda@aiguafreda.cat
X-WR-TIMEZONE:Europe/Madrid
DESCRIPTION:
URI:https://www.aiguafreda.cat/actualitat/agenda/curs-de-premonitorses-de-lleure-per-a-joves-de-15-a-17-anys.html
CLASS:PUBLIC
END:VEVENT
END:VCALENDAR
