BEGIN:VCALENDAR
VERSION:2.0
CALSCALE:GREGORIAN
PRODID:-//Diputació de Barcelona//DibaCMS//EN
BEGIN:VEVENT
UID:6526
DTSTAMP:20260422T170716
DTSTART:20160627T000000
DTEND:20160627T000000
SUMMARY:Comencen els Casals d'Estiu i els Campus esportius
LOCATION:
METHOD:PUBLISH
X-WR-CALNAME:aiguafreda@aiguafreda.cat
X-WR-TIMEZONE:Europe/Madrid
DESCRIPTION:
URI:https://www.aiguafreda.cat/actualitat/agenda/comencen-els-casals-destiu-i-els-campus-esportius.html
CLASS:PUBLIC
END:VEVENT
END:VCALENDAR
