BEGIN:VCALENDAR
VERSION:2.0
CALSCALE:GREGORIAN
PRODID:-//Diputació de Barcelona//DibaCMS//EN
BEGIN:VEVENT
UID:6524
DTSTAMP:20260422T170950
DTSTART:20160623T233000
DTEND:20160623T000000
SUMMARY:Revetlla de Sant Joan al Pla de la Vinya
LOCATION:
METHOD:PUBLISH
X-WR-CALNAME:aiguafreda@aiguafreda.cat
X-WR-TIMEZONE:Europe/Madrid
DESCRIPTION:
URI:https://www.aiguafreda.cat/actualitat/agenda/revetlla-de-sant-joan-al-pla-de-la-vinya.html
CLASS:PUBLIC
END:VEVENT
END:VCALENDAR
