BEGIN:VCALENDAR
VERSION:2.0
CALSCALE:GREGORIAN
PRODID:-//Diputació de Barcelona//DibaCMS//EN
BEGIN:VEVENT
UID:6523
DTSTAMP:20260422T193804
DTSTART:20160623T220000
DTEND:20160623T000000
SUMMARY:La Flama del Canigó a Aiguafreda per la Nit de Sant Joan
LOCATION:
METHOD:PUBLISH
X-WR-CALNAME:aiguafreda@aiguafreda.cat
X-WR-TIMEZONE:Europe/Madrid
DESCRIPTION:
URI:https://www.aiguafreda.cat/actualitat/agenda/6523-la-flama-del-canigo-a-aiguafreda-per-la-nit-de-sant-joan.html
CLASS:PUBLIC
END:VEVENT
END:VCALENDAR
