BEGIN:VCALENDAR
VERSION:2.0
CALSCALE:GREGORIAN
PRODID:-//Diputació de Barcelona//DibaCMS//EN
BEGIN:VEVENT
UID:6520
DTSTAMP:20260422T152430
DTSTART:20160618T000000
DTEND:20160619T000000
SUMMARY:Colònies de l'Esplai Pica Pins  Vilanova de Sau
LOCATION:
METHOD:PUBLISH
X-WR-CALNAME:aiguafreda@aiguafreda.cat
X-WR-TIMEZONE:Europe/Madrid
DESCRIPTION:
URI:https://www.aiguafreda.cat/actualitat/agenda/colonies-de-lesplai-pica-pins-vilanova-de-sau.html
CLASS:PUBLIC
END:VEVENT
END:VCALENDAR
