BEGIN:VCALENDAR
VERSION:2.0
CALSCALE:GREGORIAN
PRODID:-//Diputació de Barcelona//DibaCMS//EN
BEGIN:VEVENT
UID:6517
DTSTAMP:20260422T194923
DTSTART:20160618T000000
DTEND:20160618T000000
SUMMARY:6a. Cursa de les Ànimes
LOCATION:
METHOD:PUBLISH
X-WR-CALNAME:aiguafreda@aiguafreda.cat
X-WR-TIMEZONE:Europe/Madrid
DESCRIPTION:
URI:https://www.aiguafreda.cat/actualitat/agenda/6a-cursa-de-les-animes.html
CLASS:PUBLIC
END:VEVENT
END:VCALENDAR
