BEGIN:VCALENDAR
VERSION:2.0
CALSCALE:GREGORIAN
PRODID:-//Diputació de Barcelona//DibaCMS//EN
BEGIN:VEVENT
UID:6516
DTSTAMP:20260422T152902
DTSTART:20160617T190000
DTEND:20160617T000000
SUMMARY:Presentació del llibre "El Montseny, 51 passejades per descobrir"
LOCATION:
METHOD:PUBLISH
X-WR-CALNAME:aiguafreda@aiguafreda.cat
X-WR-TIMEZONE:Europe/Madrid
DESCRIPTION:
URI:https://www.aiguafreda.cat/actualitat/agenda/6516-presentacio-del-llibre-el-montseny-51-passejades-per-descobrir.html
CLASS:PUBLIC
END:VEVENT
END:VCALENDAR
