BEGIN:VCALENDAR
VERSION:2.0
CALSCALE:GREGORIAN
PRODID:-//Diputació de Barcelona//DibaCMS//EN
BEGIN:VEVENT
UID:6514
DTSTAMP:20260422T152644
DTSTART:20160615T090000
DTEND:20160615T000000
SUMMARY:Taller de primers auxilis a l'escola La Muntanya
LOCATION:
METHOD:PUBLISH
X-WR-CALNAME:aiguafreda@aiguafreda.cat
X-WR-TIMEZONE:Europe/Madrid
DESCRIPTION:
URI:https://www.aiguafreda.cat/actualitat/agenda/taller-de-primers-auxilis-a-lescola-la-muntanya.html
CLASS:PUBLIC
END:VEVENT
END:VCALENDAR
