BEGIN:VCALENDAR
VERSION:2.0
CALSCALE:GREGORIAN
PRODID:-//Diputació de Barcelona//DibaCMS//EN
BEGIN:VEVENT
UID:6513
DTSTAMP:20260422T151140
DTSTART:20160612T103000
DTEND:20160612T000000
SUMMARY:Concert de final de curs
LOCATION:
METHOD:PUBLISH
X-WR-CALNAME:aiguafreda@aiguafreda.cat
X-WR-TIMEZONE:Europe/Madrid
DESCRIPTION:
URI:https://www.aiguafreda.cat/actualitat/agenda/concert-de-final-de-curs.html
CLASS:PUBLIC
END:VEVENT
END:VCALENDAR
