BEGIN:VCALENDAR
VERSION:2.0
CALSCALE:GREGORIAN
PRODID:-//Diputació de Barcelona//DibaCMS//EN
BEGIN:VEVENT
UID:6512
DTSTAMP:20260422T210857
DTSTART:20160611T170000
DTEND:20160611T000000
SUMMARY:Festa Holi al Pla de la Vinya
LOCATION:
METHOD:PUBLISH
X-WR-CALNAME:aiguafreda@aiguafreda.cat
X-WR-TIMEZONE:Europe/Madrid
DESCRIPTION:
URI:https://www.aiguafreda.cat/actualitat/agenda/festa-holi-al-pla-de-la-vinya.html
CLASS:PUBLIC
END:VEVENT
END:VCALENDAR
