BEGIN:VCALENDAR
VERSION:2.0
CALSCALE:GREGORIAN
PRODID:-//Diputació de Barcelona//DibaCMS//EN
BEGIN:VEVENT
UID:6511
DTSTAMP:20260422T152553
DTSTART:20160609T180000
DTEND:20160609T200000
SUMMARY:Taller de cuina sense pares
LOCATION:
METHOD:PUBLISH
X-WR-CALNAME:aiguafreda@aiguafreda.cat
X-WR-TIMEZONE:Europe/Madrid
DESCRIPTION:
URI:https://www.aiguafreda.cat/actualitat/agenda/6511-taller-de-cuina-sense-pares.html
CLASS:PUBLIC
END:VEVENT
END:VCALENDAR
