BEGIN:VCALENDAR
VERSION:2.0
CALSCALE:GREGORIAN
PRODID:-//Diputació de Barcelona//DibaCMS//EN
BEGIN:VEVENT
UID:6510
DTSTAMP:20260422T193824
DTSTART:20160604T180000
DTEND:20160604T200000
SUMMARY:Ball a l'Era
LOCATION:
METHOD:PUBLISH
X-WR-CALNAME:aiguafreda@aiguafreda.cat
X-WR-TIMEZONE:Europe/Madrid
DESCRIPTION:
URI:https://www.aiguafreda.cat/actualitat/agenda/6510-ball-a-lera.html
CLASS:PUBLIC
END:VEVENT
END:VCALENDAR
