BEGIN:VCALENDAR
VERSION:2.0
CALSCALE:GREGORIAN
PRODID:-//Diputació de Barcelona//DibaCMS//EN
BEGIN:VEVENT
UID:6507
DTSTAMP:20260422T181339
DTSTART:20160529T000000
DTEND:20160529T000000
SUMMARY:Informació sobre talls de subministrament elèctric
LOCATION:
METHOD:PUBLISH
X-WR-CALNAME:aiguafreda@aiguafreda.cat
X-WR-TIMEZONE:Europe/Madrid
DESCRIPTION:
URI:https://www.aiguafreda.cat/actualitat/agenda/6507-informacio-sobre-talls-de-subministrament-electric.html
CLASS:PUBLIC
END:VEVENT
END:VCALENDAR
