BEGIN:VCALENDAR
VERSION:2.0
CALSCALE:GREGORIAN
PRODID:-//Diputació de Barcelona//DibaCMS//EN
BEGIN:VEVENT
UID:6506
DTSTAMP:20260422T201620
DTSTART:20160529T060000
DTEND:20160529T000000
SUMMARY:41a. travessa del Montseny. Aiguafreda - Gualba
LOCATION:
METHOD:PUBLISH
X-WR-CALNAME:aiguafreda@aiguafreda.cat
X-WR-TIMEZONE:Europe/Madrid
DESCRIPTION:
URI:https://www.aiguafreda.cat/actualitat/agenda/41a-travessa-del-montseny-aiguafreda-gualba.html
CLASS:PUBLIC
END:VEVENT
END:VCALENDAR
