BEGIN:VCALENDAR
VERSION:2.0
CALSCALE:GREGORIAN
PRODID:-//Diputació de Barcelona//DibaCMS//EN
BEGIN:VEVENT
UID:6505
DTSTAMP:20260422T181409
DTSTART:20160525T180000
DTEND:20160525T000000
SUMMARY:Xerrada informativa sobre herències i salut mental
LOCATION:
METHOD:PUBLISH
X-WR-CALNAME:aiguafreda@aiguafreda.cat
X-WR-TIMEZONE:Europe/Madrid
DESCRIPTION:
URI:https://www.aiguafreda.cat/actualitat/agenda/xerrada-informativa-sobre-herencies-i-salut-mental.html
CLASS:PUBLIC
END:VEVENT
END:VCALENDAR
