BEGIN:VCALENDAR
VERSION:2.0
CALSCALE:GREGORIAN
PRODID:-//Diputació de Barcelona//DibaCMS//EN
BEGIN:VEVENT
UID:6501
DTSTAMP:20260422T114625
DTSTART:20160521T093000
DTEND:20160521T133000
SUMMARY:“Fira d'Herbes Remeieres i Plantes Aromàtiques 2016”
LOCATION:
METHOD:PUBLISH
X-WR-CALNAME:aiguafreda@aiguafreda.cat
X-WR-TIMEZONE:Europe/Madrid
DESCRIPTION:
URI:https://www.aiguafreda.cat/actualitat/agenda/fira-dherbes-remeieres-i-plantes-aromatiques-2016.html
CLASS:PUBLIC
END:VEVENT
END:VCALENDAR
