BEGIN:VCALENDAR
VERSION:2.0
CALSCALE:GREGORIAN
PRODID:-//Diputació de Barcelona//DibaCMS//EN
BEGIN:VEVENT
UID:6500
DTSTAMP:20260422T120458
DTSTART:20160519T190000
DTEND:20160519T000000
SUMMARY:“Usos etnobotànics de les plantes” a càrrec de Santi Jávega.
LOCATION:
METHOD:PUBLISH
X-WR-CALNAME:aiguafreda@aiguafreda.cat
X-WR-TIMEZONE:Europe/Madrid
DESCRIPTION:
URI:https://www.aiguafreda.cat/actualitat/agenda/usos-etnobotanics-de-les-plantes-a-carrec-de-santi-javega.html
CLASS:PUBLIC
END:VEVENT
END:VCALENDAR
