BEGIN:VCALENDAR
VERSION:2.0
CALSCALE:GREGORIAN
PRODID:-//Diputació de Barcelona//DibaCMS//EN
BEGIN:VEVENT
UID:6499
DTSTAMP:20260422T181439
DTSTART:20160518T190000
DTEND:20160518T000000
SUMMARY:Presentació del llibre "Montseny, 50 indrets amb encant"
LOCATION:
METHOD:PUBLISH
X-WR-CALNAME:aiguafreda@aiguafreda.cat
X-WR-TIMEZONE:Europe/Madrid
DESCRIPTION:
URI:https://www.aiguafreda.cat/actualitat/agenda/presentacio-del-llibre-montseny-50-indrets-amb-encant.html
CLASS:PUBLIC
END:VEVENT
END:VCALENDAR
