BEGIN:VCALENDAR
VERSION:2.0
CALSCALE:GREGORIAN
PRODID:-//Diputació de Barcelona//DibaCMS//EN
BEGIN:VEVENT
UID:6496
DTSTAMP:20260422T151106
DTSTART:20160509T193000
DTEND:20160509T203000
SUMMARY:Tallers de salut alimentària 6a. sessió
LOCATION:
METHOD:PUBLISH
X-WR-CALNAME:aiguafreda@aiguafreda.cat
X-WR-TIMEZONE:Europe/Madrid
DESCRIPTION:
URI:https://www.aiguafreda.cat/actualitat/agenda/tallers-de-salut-alimentaria-6a-sessio.html
CLASS:PUBLIC
END:VEVENT
END:VCALENDAR
