BEGIN:VCALENDAR
VERSION:2.0
CALSCALE:GREGORIAN
PRODID:-//Diputació de Barcelona//DibaCMS//EN
BEGIN:VEVENT
UID:6495
DTSTAMP:20260422T101225
DTSTART:20160508T110000
DTEND:20160508T000000
SUMMARY:Aplec a Aiguafreda de Dalt
LOCATION:
METHOD:PUBLISH
X-WR-CALNAME:aiguafreda@aiguafreda.cat
X-WR-TIMEZONE:Europe/Madrid
DESCRIPTION:
URI:https://www.aiguafreda.cat/actualitat/agenda/aplec-a-aiguafreda-de-dalt.html
CLASS:PUBLIC
END:VEVENT
END:VCALENDAR
