BEGIN:VCALENDAR
VERSION:2.0
CALSCALE:GREGORIAN
PRODID:-//Diputació de Barcelona//DibaCMS//EN
BEGIN:VEVENT
UID:6494
DTSTAMP:20260422T164813
DTSTART:20160507T090000
DTEND:20160507T140000
SUMMARY:Let's Clean Up Europe. Acció de neteja a la Riera de Martinet
LOCATION:
METHOD:PUBLISH
X-WR-CALNAME:aiguafreda@aiguafreda.cat
X-WR-TIMEZONE:Europe/Madrid
DESCRIPTION:
URI:https://www.aiguafreda.cat/actualitat/agenda/lets-clean-up-europe-accio-de-neteja-a-la-riera-de-martinet.html
CLASS:PUBLIC
END:VEVENT
END:VCALENDAR
