BEGIN:VCALENDAR
VERSION:2.0
CALSCALE:GREGORIAN
PRODID:-//Diputació de Barcelona//DibaCMS//EN
BEGIN:VEVENT
UID:6493
DTSTAMP:20260422T120544
DTSTART:20160504T000000
DTEND:20160504T000000
SUMMARY:Intercanvi d'activitats al Casal Sant Jordi
LOCATION:
METHOD:PUBLISH
X-WR-CALNAME:aiguafreda@aiguafreda.cat
X-WR-TIMEZONE:Europe/Madrid
DESCRIPTION:
URI:https://www.aiguafreda.cat/actualitat/agenda/intercanvi-dactivitats-al-casal-sant-jordi.html
CLASS:PUBLIC
END:VEVENT
END:VCALENDAR
