BEGIN:VCALENDAR
VERSION:2.0
CALSCALE:GREGORIAN
PRODID:-//Diputació de Barcelona//DibaCMS//EN
BEGIN:VEVENT
UID:6490
DTSTAMP:20260422T100535
DTSTART:20160430T000000
DTEND:20160501T000000
SUMMARY:Taller de fotografia nocturna
LOCATION:
METHOD:PUBLISH
X-WR-CALNAME:aiguafreda@aiguafreda.cat
X-WR-TIMEZONE:Europe/Madrid
DESCRIPTION:
URI:https://www.aiguafreda.cat/actualitat/agenda/taller-de-fotografia-nocturna.html
CLASS:PUBLIC
END:VEVENT
END:VCALENDAR
