BEGIN:VCALENDAR
VERSION:2.0
CALSCALE:GREGORIAN
PRODID:-//Diputació de Barcelona//DibaCMS//EN
BEGIN:VEVENT
UID:6488
DTSTAMP:20260422T100926
DTSTART:20160425T183000
DTEND:20160425T200000
SUMMARY:Tallers de salut alimentària 4a. sessió
LOCATION:
METHOD:PUBLISH
X-WR-CALNAME:aiguafreda@aiguafreda.cat
X-WR-TIMEZONE:Europe/Madrid
DESCRIPTION:
URI:https://www.aiguafreda.cat/actualitat/agenda/tallers-de-salut-alimentaria-4a-sessio.html
CLASS:PUBLIC
END:VEVENT
END:VCALENDAR
