BEGIN:VCALENDAR
VERSION:2.0
CALSCALE:GREGORIAN
PRODID:-//Diputació de Barcelona//DibaCMS//EN
BEGIN:VEVENT
UID:6487
DTSTAMP:20260422T132256
DTSTART:20160425T190000
DTEND:20160425T000000
SUMMARY:2a edició del Curset de Cuina de temporada
LOCATION:
METHOD:PUBLISH
X-WR-CALNAME:aiguafreda@aiguafreda.cat
X-WR-TIMEZONE:Europe/Madrid
DESCRIPTION:
URI:https://www.aiguafreda.cat/actualitat/agenda/6487-2a-edicio-del-curset-de-cuina-de-temporada.html
CLASS:PUBLIC
END:VEVENT
END:VCALENDAR
