BEGIN:VCALENDAR
VERSION:2.0
CALSCALE:GREGORIAN
PRODID:-//Diputació de Barcelona//DibaCMS//EN
BEGIN:VEVENT
UID:6486
DTSTAMP:20260422T132348
DTSTART:20160424T180000
DTEND:20160424T000000
SUMMARY:Inauguració de la temporada sardanista
LOCATION:
METHOD:PUBLISH
X-WR-CALNAME:aiguafreda@aiguafreda.cat
X-WR-TIMEZONE:Europe/Madrid
DESCRIPTION:
URI:https://www.aiguafreda.cat/actualitat/agenda/inauguracio-de-la-temporada-sardanista.html
CLASS:PUBLIC
END:VEVENT
END:VCALENDAR
