BEGIN:VCALENDAR
VERSION:2.0
CALSCALE:GREGORIAN
PRODID:-//Diputació de Barcelona//DibaCMS//EN
BEGIN:VEVENT
UID:6484
DTSTAMP:20260422T120036
DTSTART:20160423T000000
DTEND:20160423T000000
SUMMARY:Exposició de dibuix i pintura al Casal
LOCATION:
METHOD:PUBLISH
X-WR-CALNAME:aiguafreda@aiguafreda.cat
X-WR-TIMEZONE:Europe/Madrid
DESCRIPTION:
URI:https://www.aiguafreda.cat/actualitat/agenda/exposicio-de-dibuix-i-pintura-al-casal.html
CLASS:PUBLIC
END:VEVENT
END:VCALENDAR
