BEGIN:VCALENDAR
VERSION:2.0
CALSCALE:GREGORIAN
PRODID:-//Diputació de Barcelona//DibaCMS//EN
BEGIN:VEVENT
UID:6482
DTSTAMP:20260422T100319
DTSTART:20160420T190000
DTEND:20160420T203000
SUMMARY:Tallers de salut alimentària 3a. sessió
LOCATION:
METHOD:PUBLISH
X-WR-CALNAME:aiguafreda@aiguafreda.cat
X-WR-TIMEZONE:Europe/Madrid
DESCRIPTION:
URI:https://www.aiguafreda.cat/actualitat/agenda/tallers-de-salut-alimentaria-3a-sessio.html
CLASS:PUBLIC
END:VEVENT
END:VCALENDAR
