BEGIN:VCALENDAR
VERSION:2.0
CALSCALE:GREGORIAN
PRODID:-//Diputació de Barcelona//DibaCMS//EN
BEGIN:VEVENT
UID:6478
DTSTAMP:20260422T114459
DTSTART:20160417T070000
DTEND:20160417T140000
SUMMARY:Caminada d'Aiguafreda - 2016
LOCATION:
METHOD:PUBLISH
X-WR-CALNAME:aiguafreda@aiguafreda.cat
X-WR-TIMEZONE:Europe/Madrid
DESCRIPTION:
URI:https://www.aiguafreda.cat/actualitat/agenda/caminada-daiguafreda-2016.html
CLASS:PUBLIC
END:VEVENT
END:VCALENDAR
