BEGIN:VCALENDAR
VERSION:2.0
CALSCALE:GREGORIAN
PRODID:-//Diputació de Barcelona//DibaCMS//EN
BEGIN:VEVENT
UID:6477
DTSTAMP:20260422T101408
DTSTART:20160413T183000
DTEND:20160413T203000
SUMMARY:Tallers de salut alimentària 2a. sessió
LOCATION:
METHOD:PUBLISH
X-WR-CALNAME:aiguafreda@aiguafreda.cat
X-WR-TIMEZONE:Europe/Madrid
DESCRIPTION:
URI:https://www.aiguafreda.cat/actualitat/agenda/tallers-de-salut-alimentaria-2a-sessio.html
CLASS:PUBLIC
END:VEVENT
END:VCALENDAR
