BEGIN:VCALENDAR
VERSION:2.0
CALSCALE:GREGORIAN
PRODID:-//Diputació de Barcelona//DibaCMS//EN
BEGIN:VEVENT
UID:6473
DTSTAMP:20260422T095814
DTSTART:20160406T000000
DTEND:20160406T000000
SUMMARY:Curset de formació sardanista
LOCATION:
METHOD:PUBLISH
X-WR-CALNAME:aiguafreda@aiguafreda.cat
X-WR-TIMEZONE:Europe/Madrid
DESCRIPTION:
URI:https://www.aiguafreda.cat/actualitat/agenda/6473-curset-de-formacio-sardanista.html
CLASS:PUBLIC
END:VEVENT
END:VCALENDAR
