BEGIN:VCALENDAR
VERSION:2.0
CALSCALE:GREGORIAN
PRODID:-//Diputació de Barcelona//DibaCMS//EN
BEGIN:VEVENT
UID:6467
DTSTAMP:20260422T101456
DTSTART:20160329T210000
DTEND:20160329T000000
SUMMARY:Viure sense fum
LOCATION:
METHOD:PUBLISH
X-WR-CALNAME:aiguafreda@aiguafreda.cat
X-WR-TIMEZONE:Europe/Madrid
DESCRIPTION:
URI:https://www.aiguafreda.cat/actualitat/agenda/6467-viure-sense-fum.html
CLASS:PUBLIC
END:VEVENT
END:VCALENDAR
