BEGIN:VCALENDAR
VERSION:2.0
CALSCALE:GREGORIAN
PRODID:-//Diputació de Barcelona//DibaCMS//EN
BEGIN:VEVENT
UID:6463
DTSTAMP:20260422T113638
DTSTART:20160321T000000
DTEND:20160328T000000
SUMMARY:Vacances de Setmana Santa a la biblioteca
LOCATION:
METHOD:PUBLISH
X-WR-CALNAME:aiguafreda@aiguafreda.cat
X-WR-TIMEZONE:Europe/Madrid
DESCRIPTION:
URI:https://www.aiguafreda.cat/actualitat/agenda/6463-vacances-de-setmana-santa-a-la-biblioteca.html
CLASS:PUBLIC
END:VEVENT
END:VCALENDAR
