BEGIN:VCALENDAR
VERSION:2.0
CALSCALE:GREGORIAN
PRODID:-//Diputació de Barcelona//DibaCMS//EN
BEGIN:VEVENT
UID:6459
DTSTAMP:20260422T084306
DTSTART:20160314T000000
DTEND:20160314T000000
SUMMARY:Assamblea ordinària de socis del Casal
LOCATION:
METHOD:PUBLISH
X-WR-CALNAME:aiguafreda@aiguafreda.cat
X-WR-TIMEZONE:Europe/Madrid
DESCRIPTION:
URI:https://www.aiguafreda.cat/actualitat/agenda/assamblea-ordinaria-de-socis-del-casal.html
CLASS:PUBLIC
END:VEVENT
END:VCALENDAR
