BEGIN:VCALENDAR
VERSION:2.0
CALSCALE:GREGORIAN
PRODID:-//Diputació de Barcelona//DibaCMS//EN
BEGIN:VEVENT
UID:6458
DTSTAMP:20260422T100450
DTSTART:20160313T090000
DTEND:20160313T140000
SUMMARY:Trobada per eliminar plantes exòtiques a Martinet
LOCATION:
METHOD:PUBLISH
X-WR-CALNAME:aiguafreda@aiguafreda.cat
X-WR-TIMEZONE:Europe/Madrid
DESCRIPTION:
URI:https://www.aiguafreda.cat/actualitat/agenda/trobada-per-eliminar-plantes-exotiques-a-martinet.html
CLASS:PUBLIC
END:VEVENT
END:VCALENDAR
