BEGIN:VCALENDAR
VERSION:2.0
CALSCALE:GREGORIAN
PRODID:-//Diputació de Barcelona//DibaCMS//EN
BEGIN:VEVENT
UID:6451
DTSTAMP:20260422T193925
DTSTART:20160305T093000
DTEND:20160305T000000
SUMMARY:7a. Passejada de les Dones
LOCATION:
METHOD:PUBLISH
X-WR-CALNAME:aiguafreda@aiguafreda.cat
X-WR-TIMEZONE:Europe/Madrid
DESCRIPTION:
URI:https://www.aiguafreda.cat/actualitat/agenda/6451-7a-passejada-de-les-dones.html
CLASS:PUBLIC
END:VEVENT
END:VCALENDAR
