BEGIN:VCALENDAR
VERSION:2.0
CALSCALE:GREGORIAN
PRODID:-//Diputació de Barcelona//DibaCMS//EN
BEGIN:VEVENT
UID:6449
DTSTAMP:20260422T082741
DTSTART:20160226T190000
DTEND:20160226T000000
SUMMARY:Presentació del llibre "Baraca. La forja d'un destí"
LOCATION:
METHOD:PUBLISH
X-WR-CALNAME:aiguafreda@aiguafreda.cat
X-WR-TIMEZONE:Europe/Madrid
DESCRIPTION:
URI:https://www.aiguafreda.cat/actualitat/agenda/6449-presentacio-del-llibre-baraca-la-forja-dun-desti.html
CLASS:PUBLIC
END:VEVENT
END:VCALENDAR
