BEGIN:VCALENDAR
VERSION:2.0
CALSCALE:GREGORIAN
PRODID:-//Diputació de Barcelona//DibaCMS//EN
BEGIN:VEVENT
UID:6447
DTSTAMP:20260422T114757
DTSTART:20160220T173000
DTEND:20160220T000000
SUMMARY:Carnaval
LOCATION:
METHOD:PUBLISH
X-WR-CALNAME:aiguafreda@aiguafreda.cat
X-WR-TIMEZONE:Europe/Madrid
DESCRIPTION:
URI:https://www.aiguafreda.cat/actualitat/agenda/carnaval.html
CLASS:PUBLIC
END:VEVENT
END:VCALENDAR
