BEGIN:VCALENDAR
VERSION:2.0
CALSCALE:GREGORIAN
PRODID:-//Diputació de Barcelona//DibaCMS//EN
BEGIN:VEVENT
UID:6446
DTSTAMP:20260422T101257
DTSTART:20160215T150000
DTEND:20160215T190000
SUMMARY:Taller d'informàtica al Casal
LOCATION:
METHOD:PUBLISH
X-WR-CALNAME:aiguafreda@aiguafreda.cat
X-WR-TIMEZONE:Europe/Madrid
DESCRIPTION:
URI:https://www.aiguafreda.cat/actualitat/agenda/taller-dinformatica-al-casal.html
CLASS:PUBLIC
END:VEVENT
END:VCALENDAR
