BEGIN:VCALENDAR
VERSION:2.0
CALSCALE:GREGORIAN
PRODID:-//Diputació de Barcelona//DibaCMS//EN
BEGIN:VEVENT
UID:6440
DTSTAMP:20260422T100652
DTSTART:20160110T070000
DTEND:20160110T000000
SUMMARY:Recollida del Pessebre amb els Gafarrons
LOCATION:
METHOD:PUBLISH
X-WR-CALNAME:aiguafreda@aiguafreda.cat
X-WR-TIMEZONE:Europe/Madrid
DESCRIPTION:
URI:https://www.aiguafreda.cat/actualitat/agenda/recollida-del-pessebre-amb-els-gafarrons.html
CLASS:PUBLIC
END:VEVENT
END:VCALENDAR
