BEGIN:VCALENDAR
VERSION:2.0
CALSCALE:GREGORIAN
PRODID:-//Diputació de Barcelona//DibaCMS//EN
BEGIN:VEVENT
UID:6436
DTSTAMP:20260422T085325
DTSTART:20151219T103000
DTEND:20151219T000000
SUMMARY:Bàsquet
LOCATION:
METHOD:PUBLISH
X-WR-CALNAME:aiguafreda@aiguafreda.cat
X-WR-TIMEZONE:Europe/Madrid
DESCRIPTION:
URI:https://www.aiguafreda.cat/actualitat/agenda/6436-basquet.html
CLASS:PUBLIC
END:VEVENT
END:VCALENDAR
