BEGIN:VCALENDAR
VERSION:2.0
CALSCALE:GREGORIAN
PRODID:-//Diputació de Barcelona//DibaCMS//EN
BEGIN:VEVENT
UID:6435
DTSTAMP:20260422T072232
DTSTART:20151219T070000
DTEND:20151219T000000
SUMMARY:Acompanyeu als Gafarrons al Turó de Tagamanent
LOCATION:
METHOD:PUBLISH
X-WR-CALNAME:aiguafreda@aiguafreda.cat
X-WR-TIMEZONE:Europe/Madrid
DESCRIPTION:
URI:https://www.aiguafreda.cat/actualitat/agenda/6435-acompanyeu-als-gafarrons-al-turo-de-tagamanent.html
CLASS:PUBLIC
END:VEVENT
END:VCALENDAR
